BEGIN:VCALENDAR
VERSION:2.0
PRODID:-//Words in the World - ECPv5.11.0//NONSGML v1.0//EN
CALSCALE:GREGORIAN
METHOD:PUBLISH
X-WR-CALNAME:Words in the World
X-ORIGINAL-URL:https://wordsintheworld.ca
X-WR-CALDESC:Events for Words in the World
BEGIN:VTIMEZONE
TZID:America/Halifax
BEGIN:DAYLIGHT
TZOFFSETFROM:-0400
TZOFFSETTO:-0300
TZNAME:ADT
DTSTART:20200308T060000
END:DAYLIGHT
BEGIN:STANDARD
TZOFFSETFROM:-0300
TZOFFSETTO:-0400
TZNAME:AST
DTSTART:20201101T050000
END:STANDARD
END:VTIMEZONE
BEGIN:VEVENT
DTSTART;TZID=America/Halifax:20201016T080000
DTEND;TZID=America/Halifax:20201018T170000
DTSTAMP:20260422T202458
CREATED:20200716T224922Z
LAST-MODIFIED:20200716T224922Z
UID:2172-1602835200-1603040400@wordsintheworld.ca
SUMMARY:Words in the World International Conference 2020
DESCRIPTION:This conference will offer a venue for the communication of ideas\, intellectual exchange\, and networking for trainees and others across the network. \nThis conference will take place online October 16-18\, 2020 and will include scholarly presentations as well as discussion panels. The conference will strive to create presentation opportunities for trainees (e.g.\, undergraduate students\, graduate students\, postdoctoral fellows\, recent graduates and others). We encourage students and postdoctoral fellows from all over the world to present their in-progress or completed work at this conference and engage in conversations with their colleagues on academic and non-academic topics. Papers can\, of course\, include a mix of trainees and faculty members as authors. \nSubmissions are currently open. Read the full call for submissions here and the abstract guidelines here. \nOrganizing Committee: \nLori Buchanan\nVictor Kuperman\nGary Libben \nQuestions? You can contact the organizing committee at wordsintheworldconference@gmail.com.
URL:https://wordsintheworld.ca/calendar-events/words-in-the-world-international-conference-2020/
CATEGORIES:Conferences
END:VEVENT
END:VCALENDAR