BEGIN:VCALENDAR
VERSION:2.0
PRODID:-//Words in the World - ECPv5.11.0//NONSGML v1.0//EN
CALSCALE:GREGORIAN
METHOD:PUBLISH
X-WR-CALNAME:Words in the World
X-ORIGINAL-URL:https://wordsintheworld.ca
X-WR-CALDESC:Events for Words in the World
BEGIN:VTIMEZONE
TZID:America/Chicago
BEGIN:DAYLIGHT
TZOFFSETFROM:-0600
TZOFFSETTO:-0500
TZNAME:CDT
DTSTART:20200308T080000
END:DAYLIGHT
BEGIN:STANDARD
TZOFFSETFROM:-0500
TZOFFSETTO:-0600
TZNAME:CST
DTSTART:20201101T070000
END:STANDARD
END:VTIMEZONE
BEGIN:VEVENT
DTSTART;TZID=America/Chicago:20200525T080000
DTEND;TZID=America/Chicago:20200530T170000
DTSTAMP:20260422T175049
CREATED:20200123T183959Z
LAST-MODIFIED:20200327T170811Z
UID:1802-1590393600-1590858000@wordsintheworld.ca
SUMMARY:Cancelled: STEP@CCP 2020
DESCRIPTION:STEP (Spring Training in Experimental Psycholinguistics) will be held at the University of Alberta from May 25 – May 30\, 2020. \nThe Spring School is directed at postdoctoral fellows\, graduate and advanced undergraduate students\, and anyone else interested in learning how to turn their research ideas into concrete steps towards experimental designs\, data collection and analysis using advanced experimental and statistical methods. \n  \nSTEP 2020 CONFIRMED INSTRUCTORS AND COURSES \nYu-Ying Chuang & Harald Baayen (Tübingen) -TBA \nStefan Th. Gries (UC Santa Barbara) – TBA \nAki-Juhani Kyröläinen & Vincent Porretta (McMaster) –  Generalized Additive Modeling: Advanced statistical methods for psycholinguistics \n  \nCERTIFICATE COURSES \nLiam Blything (Alberta) – Creating a visual world paradigm step-by-step using Experiment Builder \nIsabell Hubert Lyall (Alberta) – Introduction to R for experimental data processing \nAki-Juhani Kyröläinen & Vincent Porretta (McMaster) – Introduction to linear mixed-effects regression using R \n 
URL:https://wordsintheworld.ca/calendar-events/stepccp-2020/
LOCATION:University of Alberta\, 116 St & 85 Ave\, Edmonton\, Alberta\, T6G 2E7\, Canada
END:VEVENT
END:VCALENDAR