BEGIN:VCALENDAR
VERSION:2.0
PRODID:-//Words in the World - ECPv5.11.0//NONSGML v1.0//EN
CALSCALE:GREGORIAN
METHOD:PUBLISH
X-WR-CALNAME:Words in the World
X-ORIGINAL-URL:https://wordsintheworld.ca
X-WR-CALDESC:Events for Words in the World
BEGIN:VTIMEZONE
TZID:America/Halifax
BEGIN:DAYLIGHT
TZOFFSETFROM:-0400
TZOFFSETTO:-0300
TZNAME:ADT
DTSTART:20200308T060000
END:DAYLIGHT
BEGIN:STANDARD
TZOFFSETFROM:-0300
TZOFFSETTO:-0400
TZNAME:AST
DTSTART:20201101T050000
END:STANDARD
END:VTIMEZONE
BEGIN:VEVENT
DTSTART;TZID=America/Halifax:20200327T130000
DTEND;TZID=America/Halifax:20200327T140000
DTSTAMP:20260422T190022
CREATED:20200325T182242Z
LAST-MODIFIED:20200326T170629Z
UID:1886-1585314000-1585317600@wordsintheworld.ca
SUMMARY:Non-chronometric experiments in Mechanical Turk
DESCRIPTION:We are continuing the Open Office Hours dedicated to programming non-chronometric psycholinguistic experiments in Amazon Mechanical Turk. All materials from the first Office Hour and the follow-up can be found at osf.io/cqa2e. \nThe follow-up Open Office Hour with Dr. Victor Kuperman will cover additional types of experiments (Cloze predictability\, plausibility judgments\, Rating and Likert scales). It will take place on Friday March 27 at 1-2 pm (Eastern time for US and Canada). \nDate: March 27\, 2020 \nTime: 1:00pm – 2:00pm Eastern Time (GMT -4) \nZoom link: https://zoom.us/j/702938796
URL:https://wordsintheworld.ca/calendar-events/non-chronometric-experiments-in-mechanical-turk/
END:VEVENT
END:VCALENDAR