BEGIN:VCALENDAR
VERSION:2.0
PRODID:-//Words in the World - ECPv5.11.0//NONSGML v1.0//EN
CALSCALE:GREGORIAN
METHOD:PUBLISH
X-WR-CALNAME:Words in the World
X-ORIGINAL-URL:https://wordsintheworld.ca
X-WR-CALDESC:Events for Words in the World
BEGIN:VTIMEZONE
TZID:America/Toronto
BEGIN:DAYLIGHT
TZOFFSETFROM:-0500
TZOFFSETTO:-0400
TZNAME:EDT
DTSTART:20200308T070000
END:DAYLIGHT
BEGIN:STANDARD
TZOFFSETFROM:-0400
TZOFFSETTO:-0500
TZNAME:EST
DTSTART:20201101T060000
END:STANDARD
END:VTIMEZONE
BEGIN:VEVENT
DTSTART;TZID=America/Toronto:20200324T130000
DTEND;TZID=America/Toronto:20200324T140000
DTSTAMP:20260422T172225
CREATED:20200319T232247Z
LAST-MODIFIED:20200324T004610Z
UID:1852-1585054800-1585058400@wordsintheworld.ca
SUMMARY:How to collect psycholinguistic data from home: Introduction to crowdsourcing tools
DESCRIPTION:“How to collect psycholinguistic data from home: Introduction to crowdsourcing tools” \nHost: Victor Kuperman \nDate: Tuesday\, March 24\, 2020 \nTime: 1 p.m. – 2 p.m. EST (GMT -4) \nAbility to collect experimental data outside of the lab is of great importance for reaching out to populations outside of university convenience subject pools. This importance is even greater when lab testing is undesirable. This first session of “open office hours” will introduce rich possibilities for data collection using crowdsourcing tools like Amazon’s Mechanical Turk (mturk.com). We will cover several basic types of experiments (surveys; and collection of ratings\, linguistic judgments\, and written responses)\, and discuss practicalities of online testing. Several small experiments will be created and results collected and discussed. \nNo prior knowledge is expected. The session is designed for 20-30 minutes of an informal presentation\, followed by the Q&A. Ideas for experiments are very welcome. \n  \nOpen Office Hours are hosted online using Zoom: https://bit.ly/394W74o \nMeeting ID: 218 292 716 \n  \nYou can also join the Open Office Hours by telephone (read more about phoning in here: link). \n\nToronto: +16473744685 \n\nAlberta: +15873281099 \n\nMontreal: +14388097799 \nToronto: +16473744685 \nFind your local number: https://zoom.us/u/absvCEl13d
URL:https://wordsintheworld.ca/calendar-events/how-to-collect-psycholinguistic-data-from-home-introduction-to-crowdsourcing-tools/
CATEGORIES:Open Office Hours
END:VEVENT
END:VCALENDAR